BEGIN:VCALENDAR
PRODID:-//熏依社画廊 //NONSGML Events //EN
VERSION:2.0
METHOD:PUBLISH
BEGIN:VEVENT
DTSTART:20220603
DTEND:20220605
LOCATION:大阪
SUMMARY:大阪艺术博览会 2022
TRANSP:OPAQUE
SEQUENCE:0
UID:3310
DTSTAMP:20260421T140208Z
PRIORITY:5
CLASS:PUBLIC
END:VEVENT
END:VCALENDAR
