BEGIN:VCALENDAR
PRODID:-//熏依社画廊 //NONSGML Events //EN
VERSION:2.0
METHOD:PUBLISH
BEGIN:VEVENT
DTSTART:20221021
DTEND:20221024
LOCATION:Taipei World Trade Center Exhibition Hall 1
SUMMARY:台北國際藝術博覽會 2022
TRANSP:OPAQUE
SEQUENCE:0
UID:2427
DTSTAMP:20260421T140759Z
PRIORITY:5
CLASS:PUBLIC
END:VEVENT
END:VCALENDAR
