BEGIN:VCALENDAR
PRODID:-//熏依社画廊 //NONSGML Events //EN
VERSION:2.0
METHOD:PUBLISH
BEGIN:VEVENT
DTSTART:20221220
DTEND:20230219
LOCATION:Shanghai
SUMMARY:倒数第二次晚餐
TRANSP:OPAQUE
SEQUENCE:0
UID:2404
DTSTAMP:20260423T154528Z
PRIORITY:5
CLASS:PUBLIC
END:VEVENT
END:VCALENDAR
