BEGIN:VCALENDAR
PRODID:-//上海熏依社文化藝術有限公司 //NONSGML Events //EN
VERSION:2.0
METHOD:PUBLISH
BEGIN:VEVENT
DTSTART:20210318
DTEND:20210321
LOCATION:Tokyo
SUMMARY:ART FAIR TOKYO 2021
TRANSP:OPAQUE
SEQUENCE:0
UID:3340
DTSTAMP:20260421T195033Z
PRIORITY:5
CLASS:PUBLIC
END:VEVENT
END:VCALENDAR
