BEGIN:VCALENDAR
PRODID:-//上海熏依社文化藝術有限公司 //NONSGML Events //EN
VERSION:2.0
METHOD:PUBLISH
BEGIN:VEVENT
DTSTART:20260214
DTEND:20260405
LOCATION:東京 -神宮前-
SUMMARY:グループ展 温故知新
TRANSP:OPAQUE
SEQUENCE:0
UID:28250
DTSTAMP:20260420T095622Z
PRIORITY:5
CLASS:PUBLIC
END:VEVENT
END:VCALENDAR
