BEGIN:VCALENDAR
PRODID:-//上海熏依社文化藝術有限公司 //NONSGML Events //EN
VERSION:2.0
METHOD:PUBLISH
BEGIN:VEVENT
DTSTART:20230301
DTEND:20230305
LOCATION:Madinat Jumeirah Conference & Events Centre,
SUMMARY:ART DUBAI 2023
TRANSP:OPAQUE
SEQUENCE:0
UID:2441
DTSTAMP:20260421T121124Z
PRIORITY:5
CLASS:PUBLIC
END:VEVENT
END:VCALENDAR
