BEGIN:VCALENDAR
PRODID:-//上海熏依社文化藝術有限公司 //NONSGML Events //EN
VERSION:2.0
METHOD:PUBLISH
BEGIN:VEVENT
DTSTART:20221220
DTEND:20230219
LOCATION:Shanghai
SUMMARY:Party Before New Year Party
TRANSP:OPAQUE
SEQUENCE:0
UID:2405
DTSTAMP:20260423T172319Z
PRIORITY:5
CLASS:PUBLIC
END:VEVENT
END:VCALENDAR
