BEGIN:VCALENDAR
PRODID:-//Shun Art Gallery //NONSGML Events //EN
VERSION:2.0
METHOD:PUBLISH
BEGIN:VEVENT
DTSTART:20230318
DTEND:20230430
LOCATION:Shanghai
SUMMARY:Off-Line
TRANSP:OPAQUE
SEQUENCE:0
UID:438
DTSTAMP:20260421T140327Z
PRIORITY:5
CLASS:PUBLIC
END:VEVENT
END:VCALENDAR
