BEGIN:VCALENDAR
PRODID:-//Shun Art Gallery //NONSGML Events //EN
VERSION:2.0
METHOD:PUBLISH
BEGIN:VEVENT
DTSTART:20220603
DTEND:20220605
LOCATION:Osaka
SUMMARY:art stage OSAKA 2022
TRANSP:OPAQUE
SEQUENCE:0
UID:3301
DTSTAMP:20260421T140627Z
PRIORITY:5
CLASS:PUBLIC
END:VEVENT
END:VCALENDAR
